BEGIN:VCALENDAR
VERSION:2.0
PRODID:-//Kefas - ECPv5.9.1//NONSGML v1.0//EN
CALSCALE:GREGORIAN
METHOD:PUBLISH
X-WR-CALNAME:Kefas
X-ORIGINAL-URL:https://kefas.com.mx
X-WR-CALDESC:Eventos para Kefas
BEGIN:VTIMEZONE
TZID:America/Chicago
BEGIN:DAYLIGHT
TZOFFSETFROM:-0600
TZOFFSETTO:-0500
TZNAME:CDT
DTSTART:20190310T080000
END:DAYLIGHT
BEGIN:STANDARD
TZOFFSETFROM:-0500
TZOFFSETTO:-0600
TZNAME:CST
DTSTART:20191103T070000
END:STANDARD
END:VTIMEZONE
BEGIN:VEVENT
DTSTART;TZID=America/Chicago:20190329T190000
DTEND;TZID=America/Chicago:20190331T150000
DTSTAMP:20260421T121031
CREATED:20190113T041200Z
LAST-MODIFIED:20190328T042217Z
UID:581-1553886000-1554044400@kefas.com.mx
SUMMARY:Retiro de Kerigma
DESCRIPTION:
URL:https://kefas.com.mx/event/kerigma-ciclo-1/
LOCATION:Seminario de Monterrey\, Av. Corregidora 700\, Plan de Ayala\, San Pedro Garza García\, Nuevo León\, 66217\, Mexico
CATEGORIES:Retiros
ATTACH;FMTTYPE=image/jpeg:https://kefas.com.mx/wp-content/uploads/2019/01/Kerigma.jpeg
ORGANIZER;CN="%C3%93scar%20Ayala":MAILTO:oj_ayalal@hotmail.com
END:VEVENT
END:VCALENDAR