BEGIN:VCALENDAR
VERSION:2.0
PRODID:-//Kefas - ECPv5.9.1//NONSGML v1.0//EN
CALSCALE:GREGORIAN
METHOD:PUBLISH
X-WR-CALNAME:Kefas
X-ORIGINAL-URL:https://kefas.com.mx
X-WR-CALDESC:Eventos para Kefas
BEGIN:VTIMEZONE
TZID:America/Chicago
BEGIN:DAYLIGHT
TZOFFSETFROM:-0600
TZOFFSETTO:-0500
TZNAME:CDT
DTSTART:20190310T080000
END:DAYLIGHT
BEGIN:STANDARD
TZOFFSETFROM:-0500
TZOFFSETTO:-0600
TZNAME:CST
DTSTART:20191103T070000
END:STANDARD
END:VTIMEZONE
BEGIN:VEVENT
DTSTART;TZID=America/Chicago:20190413T070000
DTEND;TZID=America/Chicago:20190413T090000
DTSTAMP:20260421T101434
CREATED:20190113T030839Z
LAST-MODIFIED:20190328T041552Z
UID:556-1555138800-1555146000@kefas.com.mx
SUMMARY:MegaKefas - Abril
DESCRIPTION:
URL:https://kefas.com.mx/event/megakefas-abril/
LOCATION:Parroquia Santa Catarina\, Hidalgo No. 100 Nte.\, Col. Centro\, Santa Catarina\, Nuevo León\, 66350\, Mexico
CATEGORIES:Megakefas
ATTACH;FMTTYPE=image/jpeg:https://kefas.com.mx/wp-content/uploads/2019/01/Megakefas-Abril.jpeg
END:VEVENT
END:VCALENDAR