BEGIN:VCALENDAR
VERSION:2.0
PRODID:-//Kefas - ECPv5.9.1//NONSGML v1.0//EN
CALSCALE:GREGORIAN
METHOD:PUBLISH
X-WR-CALNAME:Kefas
X-ORIGINAL-URL:https://kefas.com.mx
X-WR-CALDESC:Eventos para Kefas
BEGIN:VTIMEZONE
TZID:America/Chicago
BEGIN:DAYLIGHT
TZOFFSETFROM:-0600
TZOFFSETTO:-0500
TZNAME:CDT
DTSTART:20190310T080000
END:DAYLIGHT
BEGIN:STANDARD
TZOFFSETFROM:-0500
TZOFFSETTO:-0600
TZNAME:CST
DTSTART:20191103T070000
END:STANDARD
END:VTIMEZONE
BEGIN:VEVENT
DTSTART;TZID=America/Chicago:20190216T070000
DTEND;TZID=America/Chicago:20190216T090000
DTSTAMP:20260421T184037
CREATED:20190113T025711Z
LAST-MODIFIED:20190113T040609Z
UID:550-1550300400-1550307600@kefas.com.mx
SUMMARY:MegaKefas - Febrero
DESCRIPTION:
URL:https://kefas.com.mx/event/megakefas-febrero/
LOCATION:Parroquia La Natividad del Señor\, Cima y Conquistadores No 700 Col Cumbres 3er Sector\, Monterrey\, Nuevo León\, 64610\, Mexico
CATEGORIES:Megakefas
END:VEVENT
END:VCALENDAR