BEGIN:VCALENDAR
VERSION:2.0
PRODID:-//Kefas - ECPv5.9.1//NONSGML v1.0//EN
CALSCALE:GREGORIAN
METHOD:PUBLISH
X-WR-CALNAME:Kefas
X-ORIGINAL-URL:https://kefas.com.mx
X-WR-CALDESC:Eventos para Kefas
BEGIN:VTIMEZONE
TZID:America/Chicago
BEGIN:DAYLIGHT
TZOFFSETFROM:-0600
TZOFFSETTO:-0500
TZNAME:CDT
DTSTART:20190310T080000
END:DAYLIGHT
BEGIN:STANDARD
TZOFFSETFROM:-0500
TZOFFSETTO:-0600
TZNAME:CST
DTSTART:20191103T070000
END:STANDARD
END:VTIMEZONE
BEGIN:VEVENT
DTSTART;TZID=America/Chicago:20190316T070000
DTEND;TZID=America/Chicago:20190316T090000
DTSTAMP:20260421T150906
CREATED:20190113T030058Z
LAST-MODIFIED:20190317T193054Z
UID:552-1552719600-1552726800@kefas.com.mx
SUMMARY:MegaKefas - Marzo
DESCRIPTION:
URL:https://kefas.com.mx/event/megakefas-marzo/
LOCATION:Parroquia de San Isidro Labrador\, Camino Antiguo a Villa de Santiago #6126\, Monterrey\, Nuevo León\, 64988\, Mexico
CATEGORIES:Megakefas
ATTACH;FMTTYPE=image/jpeg:https://kefas.com.mx/wp-content/uploads/2019/01/PHOTO-2019-03-11-13-53-01.jpg
END:VEVENT
END:VCALENDAR