BEGIN:VCALENDAR
VERSION:2.0
PRODID:-//Kefas - ECPv5.9.1//NONSGML v1.0//EN
CALSCALE:GREGORIAN
METHOD:PUBLISH
X-WR-CALNAME:Kefas
X-ORIGINAL-URL:https://kefas.com.mx
X-WR-CALDESC:Eventos para Kefas
BEGIN:VTIMEZONE
TZID:America/Chicago
BEGIN:DAYLIGHT
TZOFFSETFROM:-0600
TZOFFSETTO:-0500
TZNAME:CDT
DTSTART:20180311T080000
END:DAYLIGHT
BEGIN:STANDARD
TZOFFSETFROM:-0500
TZOFFSETTO:-0600
TZNAME:CST
DTSTART:20181104T070000
END:STANDARD
END:VTIMEZONE
BEGIN:VEVENT
DTSTART;TZID=America/Chicago:20181117T070000
DTEND;TZID=America/Chicago:20181117T090000
DTSTAMP:20260422T032515
CREATED:20181028T235606Z
LAST-MODIFIED:20181029T000708Z
UID:492-1542438000-1542445200@kefas.com.mx
SUMMARY:Megakefas Noviembre
DESCRIPTION:
URL:https://kefas.com.mx/event/megakefas-noviembre/
ATTACH;FMTTYPE=image/jpeg:https://kefas.com.mx/wp-content/uploads/2018/10/Megakefas-Diciembre.jpeg
ORGANIZER;CN="Coordinaci%C3%B3n%20de%20Eventos%20Kefas":MAILTO:contacto@kefas.org.mx
END:VEVENT
END:VCALENDAR