BEGIN:VCALENDAR
VERSION:2.0
PRODID:-//Kefas - ECPv5.9.1//NONSGML v1.0//EN
CALSCALE:GREGORIAN
METHOD:PUBLISH
X-WR-CALNAME:Kefas
X-ORIGINAL-URL:https://kefas.com.mx
X-WR-CALDESC:Eventos para Kefas
BEGIN:VTIMEZONE
TZID:America/Chicago
BEGIN:DAYLIGHT
TZOFFSETFROM:-0600
TZOFFSETTO:-0500
TZNAME:CDT
DTSTART:20190310T080000
END:DAYLIGHT
BEGIN:STANDARD
TZOFFSETFROM:-0500
TZOFFSETTO:-0600
TZNAME:CST
DTSTART:20191103T070000
END:STANDARD
END:VTIMEZONE
BEGIN:VEVENT
DTSTART;TZID=America/Chicago:20190512T190000
DTEND;TZID=America/Chicago:20190512T210000
DTSTAMP:20260421T033934
CREATED:20190126T221625Z
LAST-MODIFIED:20190126T221625Z
UID:610-1557687600-1557694800@kefas.com.mx
SUMMARY:Misa de Graduación
DESCRIPTION:Cuando un hermano Kefa a perseverado y atendido todos las actividades del proceso de formación\, participa en una misa de “graduación”\, donde recibirá un sacramental especial del grupo Kefas. \nA ésta misa está invitada de forma especial la familia de cada Kefa graduado.
URL:https://kefas.com.mx/event/misa-de-graduacion-2/
LOCATION:Parroquia de la Santa Cruz\, Cerro del Topo No. 215 Col. Las Puentes\, San Nicolás de los Garza\, Nuevo León\, 66450\, Mexico
END:VEVENT
END:VCALENDAR