BEGIN:VCALENDAR
VERSION:2.0
PRODID:-//Kefas - ECPv5.9.1//NONSGML v1.0//EN
CALSCALE:GREGORIAN
METHOD:PUBLISH
X-WR-CALNAME:Kefas
X-ORIGINAL-URL:https://kefas.com.mx
X-WR-CALDESC:Eventos para Kefas
BEGIN:VTIMEZONE
TZID:America/Chicago
BEGIN:DAYLIGHT
TZOFFSETFROM:-0600
TZOFFSETTO:-0500
TZNAME:CDT
DTSTART:20180311T080000
END:DAYLIGHT
BEGIN:STANDARD
TZOFFSETFROM:-0500
TZOFFSETTO:-0600
TZNAME:CST
DTSTART:20181104T070000
END:STANDARD
END:VTIMEZONE
BEGIN:VEVENT
DTSTART;TZID=America/Chicago:20181209T183000
DTEND;TZID=America/Chicago:20181209T203000
DTSTAMP:20260421T235559
CREATED:20181028T235945Z
LAST-MODIFIED:20181029T000443Z
UID:500-1544380200-1544387400@kefas.com.mx
SUMMARY:Misa de Graduación
DESCRIPTION:La misa de graduación es el evento que formaliza el fin del proceso de formación de un Kefa. \nÉsta misa será oficiada por Nuestro Pastor el P. Ernesto Ma. Caro. \nTe esperamos!!
URL:https://kefas.com.mx/event/misa-de-graduacion/
ATTACH;FMTTYPE=image/jpeg:https://kefas.com.mx/wp-content/uploads/2018/10/Misa-de-Graduación.jpeg
ORGANIZER;CN="Coordinaci%C3%B3n%20de%20Eventos%20Kefas":MAILTO:contacto@kefas.org.mx
END:VEVENT
END:VCALENDAR