BEGIN:VCALENDAR
VERSION:2.0
PRODID:-//Kefas - ECPv5.9.1//NONSGML v1.0//EN
CALSCALE:GREGORIAN
METHOD:PUBLISH
X-WR-CALNAME:Kefas
X-ORIGINAL-URL:https://kefas.com.mx
X-WR-CALDESC:Eventos para Kefas
BEGIN:VTIMEZONE
TZID:America/Chicago
BEGIN:DAYLIGHT
TZOFFSETFROM:-0600
TZOFFSETTO:-0500
TZNAME:CDT
DTSTART:20190310T080000
END:DAYLIGHT
BEGIN:STANDARD
TZOFFSETFROM:-0500
TZOFFSETTO:-0600
TZNAME:CST
DTSTART:20191103T070000
END:STANDARD
END:VTIMEZONE
BEGIN:VEVENT
DTSTART;TZID=America/Chicago:20190223T080000
DTEND;TZID=America/Chicago:20190224T140000
DTSTAMP:20260421T165424
CREATED:20190126T211904Z
LAST-MODIFIED:20190126T211904Z
UID:592-1550908800-1551016800@kefas.com.mx
SUMMARY:Retiro - 7 Piedras
DESCRIPTION:Éste retiro es la conclusión de la “Formación de Discípulos” \nEn el retiro\, revisamos los siguientes temas: \n\nEl Llamado\nDigo Si\nLa Cruz\nJesús mi Señor\nLa Misión\nLa Alianza\nEspíritu Santo
URL:https://kefas.com.mx/event/retiro-7-piedras/
LOCATION:Hermanos de San Juan Monterrey\, Brasil # 100\, Col. Rincón de la Sierra\, Monterrey\, Nuevo León\, 67190\, Mexico
ORGANIZER;CN="%C3%93scar%20Ayala":MAILTO:oj_ayalal@hotmail.com
END:VEVENT
END:VCALENDAR