BEGIN:VCALENDAR
VERSION:2.0
PRODID:-//Kefas - ECPv5.9.1//NONSGML v1.0//EN
CALSCALE:GREGORIAN
METHOD:PUBLISH
X-WR-CALNAME:Kefas
X-ORIGINAL-URL:https://kefas.com.mx
X-WR-CALDESC:Eventos para Kefas
BEGIN:VTIMEZONE
TZID:America/Chicago
BEGIN:DAYLIGHT
TZOFFSETFROM:-0600
TZOFFSETTO:-0500
TZNAME:CDT
DTSTART:20180311T080000
END:DAYLIGHT
BEGIN:STANDARD
TZOFFSETFROM:-0500
TZOFFSETTO:-0600
TZNAME:CST
DTSTART:20181104T070000
END:STANDARD
END:VTIMEZONE
BEGIN:VEVENT
DTSTART;TZID=America/Chicago:20181109T200000
DTEND;TZID=America/Chicago:20181111T140000
DTSTAMP:20260422T050244
CREATED:20180930T221140Z
LAST-MODIFIED:20181030T034421Z
UID:393-1541793600-1541944800@kefas.com.mx
SUMMARY:Retiro de Kerigma
DESCRIPTION:El retiro de Kerigma está dirigido a todos nuestros hermanos que han decidido darle un SI a nuestro Señor\, y a los hermanos que ya han iniciado su proceso de conversión\, y que por distintas razones no han participado en ésta experiencia
URL:https://kefas.com.mx/event/retiro-de-kerigma/
LOCATION:Casa de Retiro Santa María de los Ángeles\, Carretera Cadereyta-Allende Km. 20.5 A 800 mts. de la carretera en el camino a los Cerritos\, Allende\, Cadereyta\, Mexico
CATEGORIES:Retiros
ATTACH;FMTTYPE=image/jpeg:https://kefas.com.mx/wp-content/uploads/2018/09/Kerigma.jpeg
END:VEVENT
END:VCALENDAR