BEGIN:VCALENDAR
VERSION:2.0
PRODID:-//Kefas - ECPv5.9.1//NONSGML v1.0//EN
CALSCALE:GREGORIAN
METHOD:PUBLISH
X-WR-CALNAME:Kefas
X-ORIGINAL-URL:https://kefas.com.mx
X-WR-CALDESC:Eventos para Kefas
BEGIN:VTIMEZONE
TZID:America/Chicago
BEGIN:DAYLIGHT
TZOFFSETFROM:-0600
TZOFFSETTO:-0500
TZNAME:CDT
DTSTART:20190310T080000
END:DAYLIGHT
BEGIN:STANDARD
TZOFFSETFROM:-0500
TZOFFSETTO:-0600
TZNAME:CST
DTSTART:20191103T070000
END:STANDARD
END:VTIMEZONE
BEGIN:VEVENT
DTSTART;TZID=America/Chicago:20190413T090000
DTEND;TZID=America/Chicago:20190413T100000
DTSTAMP:20260421T082934
CREATED:20190126T215036Z
LAST-MODIFIED:20190126T215053Z
UID:603-1555146000-1555149600@kefas.com.mx
SUMMARY:Reunión de Coordinadores de Misión
DESCRIPTION:Cada 3 meses\, los coordinadores de misión y el consejo de Kefas nos reunimos para: \n\nRevisar y confirmar las fechas de los próximos eventos\nAnalizar necesidades de las misiones
URL:https://kefas.com.mx/event/reunion-de-coordinadores-de-mision/
LOCATION:Parroquia Santa Catarina\, Hidalgo No. 100 Nte.\, Col. Centro\, Santa Catarina\, Nuevo León\, 66350\, Mexico
END:VEVENT
END:VCALENDAR